BEGIN:VCALENDAR
VERSION:2.0
PRODID:icalendar-ruby
CALSCALE:GREGORIAN
METHOD:PUBLISH
BEGIN:VEVENT
DTSTAMP:20260420T191756Z
UID:33-8580150@proxytest.churchos.ca
DTSTART:20260918T000000Z
DTEND:20260918T030000Z
CLASS:PUBLIC
CREATED:20260420T034126
DESCRIPTION:Knitting Club
LAST-MODIFIED:20260420T034126
LOCATION:
SUMMARY:Knitting Club
URL;VALUE=URI:https://proxytest.churchos.ca/events/knitting-club/2026-09-17
END:VEVENT
END:VCALENDAR
