BEGIN:VCALENDAR
VERSION:2.0
PRODID:icalendar-ruby
CALSCALE:GREGORIAN
METHOD:PUBLISH
BEGIN:VEVENT
DTSTAMP:20260421T003735Z
UID:33-8580153@proxytest.churchos.ca
DTSTART:20261009T000000Z
DTEND:20261009T030000Z
CLASS:PUBLIC
CREATED:20260420T034126
DESCRIPTION:Knitting Club
LAST-MODIFIED:20260420T034126
LOCATION:
SUMMARY:Knitting Club
URL;VALUE=URI:https://proxytest.churchos.ca/events/knitting-club/2026-10-08
END:VEVENT
END:VCALENDAR
