BEGIN:VCALENDAR
VERSION:2.0
PRODID:icalendar-ruby
CALSCALE:GREGORIAN
METHOD:PUBLISH
BEGIN:VEVENT
DTSTAMP:20260420T090723Z
UID:46-8574561@proxytest.churchos.ca
DTSTART:20260808T020000Z
DTEND:20260808T050000Z
CLASS:PUBLIC
CREATED:20260419T034118
DESCRIPTION:TEST weekly evnt
LAST-MODIFIED:20260419T034118
LOCATION:
SUMMARY:Men's Bible Study
URL;VALUE=URI:https://proxytest.churchos.ca/events/mens-bible-study--46/202
 6-08-07
ATTACH;FILENAME=headshot01.png;FMTTYPE=image/png:https://d2b6r1pag5wxdm.clo
 udfront.net/2025/04/04/04/04/52/aca057a7-b155-49fb-9489-fc99e96e5ed1/heads
 hot01.png
END:VEVENT
END:VCALENDAR
