BEGIN:VCALENDAR
VERSION:2.0
PRODID:icalendar-ruby
CALSCALE:GREGORIAN
METHOD:PUBLISH
BEGIN:VEVENT
DTSTAMP:20260422T221436Z
UID:18-8591295@proxytest.churchos.ca
DTSTART:20261005T020000Z
DTEND:20261005T050000Z
CLASS:PUBLIC
CREATED:20260422T034108
DESCRIPTION:Test
LAST-MODIFIED:20260422T034108
LOCATION:
SUMMARY:Test
URL;VALUE=URI:https://proxytest.churchos.ca/events/test--18/2026-10-04
ATTACH;FILENAME=004LHAOUL7.jpg;FMTTYPE=image/jpeg:https://d2b6r1pag5wxdm.cl
 oudfront.net/2025/04/04/04/01/38/b1ec54a7-de36-4544-b1de-df57a64eb9e3/004L
 HAOUL7.jpg
END:VEVENT
END:VCALENDAR
