BEGIN:VCALENDAR
VERSION:2.0
PRODID:icalendar-ruby
CALSCALE:GREGORIAN
METHOD:PUBLISH
BEGIN:VEVENT
DTSTAMP:20260420T215442Z
UID:90-8583627@proxytest.churchos.ca
DTSTART:20260913T210000Z
DTEND:20260914T020000Z
CLASS:PUBLIC
CREATED:20260420T034138
DESCRIPTION:thomas was here 
LAST-MODIFIED:20260420T034138
LOCATION:
SUMMARY:Test Recurring
URL;VALUE=URI:https://proxytest.churchos.ca/events/test-recurring/2026-09-1
 3
ATTACH;FILENAME=004LHAOUL7.jpg;FMTTYPE=image/jpeg:https://d2b6r1pag5wxdm.cl
 oudfront.net/2025/04/04/16/56/14/f4d9a571-682a-461a-819a-da3348d572ef/004L
 HAOUL7.jpg
ATTACH;FILENAME=general_children-01.jpg;FMTTYPE=image/jpeg:https://d2b6r1pa
 g5wxdm.cloudfront.net/2025/04/04/16/56/14/8f333820-bad5-4327-9bcb-cbc4a241
 4fd7/general_children-01.jpg
ATTACH;FILENAME=hannah-busing-FF049vNP1eg-unsplash.jpg;FMTTYPE=image/jpeg:h
 ttps://d2b6r1pag5wxdm.cloudfront.net/2025/04/04/16/56/15/89572eee-69ab-4bf
 1-8a9b-abbe586a11db/hannah-busing-FF049vNP1eg-unsplash.jpg
ATTACH;FILENAME=hannah-busing-FF049vNP1eg-unsplash.jpg;FMTTYPE=image/jpeg:h
 ttps://d2b6r1pag5wxdm.cloudfront.net/2025/04/04/16/56/16/5a39e9d4-0de2-4ff
 9-9b05-9580d5d0f87d/hannah-busing-FF049vNP1eg-unsplash.jpg
ATTACH;FILENAME=helena-lopes-e3OUQGT9bWU-unsplash.jpg;FMTTYPE=image/jpeg:ht
 tps://d2b6r1pag5wxdm.cloudfront.net/2025/04/04/16/56/16/ca144b05-4f6b-4439
 -80b2-d5a5fa53031e/helena-lopes-e3OUQGT9bWU-unsplash.jpg
ATTACH;FILENAME=general_children-01.jpg;FMTTYPE=image/jpeg:https://d2b6r1pa
 g5wxdm.cloudfront.net/2025/04/04/06/31/15/63f3c0af-0785-4e6b-92c5-9824ad04
 1584/general_children-01.jpg
ATTACH;FILENAME=ben-white-292680-unsplash.jpg;FMTTYPE=image/jpeg:https://d2
 b6r1pag5wxdm.cloudfront.net/2025/04/04/06/31/16/860f547d-3303-48d0-9b2c-66
 117e597e2a/ben-white-292680-unsplash.jpg
ATTACH;FILENAME=cynthia-magana-mFPJXEQfb9M-unsplash.jpg;FMTTYPE=image/jpeg:
 https://d2b6r1pag5wxdm.cloudfront.net/2025/04/04/06/32/11/715c6ef9-fbaa-4a
 60-ae24-98a7e4b3585e/cynthia-magana-mFPJXEQfb9M-unsplash.jpg
ATTACH;FILENAME=hannah-busing-FF049vNP1eg-unsplash.jpg;FMTTYPE=image/jpeg:h
 ttps://d2b6r1pag5wxdm.cloudfront.net/2025/04/04/06/32/12/555c8bd8-da3a-4e3
 2-a6d3-2a207d74d4ba/hannah-busing-FF049vNP1eg-unsplash.jpg
ATTACH;FILENAME=headshot01.png;FMTTYPE=image/png:https://d2b6r1pag5wxdm.clo
 udfront.net/2025/04/04/06/32/12/fd72e7d8-1c92-4268-97c5-e433836b544f/heads
 hot01.png
ATTACH;FILENAME=headshot01.png;FMTTYPE=image/png:https://d2b6r1pag5wxdm.clo
 udfront.net/2025/04/04/06/32/12/5be6d471-72fe-4581-beca-c569abd575de/heads
 hot01.png
END:VEVENT
END:VCALENDAR
