BEGIN:VCALENDAR
VERSION:2.0
PRODID:icalendar-ruby
CALSCALE:GREGORIAN
METHOD:PUBLISH
BEGIN:VEVENT
DTSTAMP:20260421T001235Z
UID:74-8582439@proxytest.churchos.ca
DTSTART:20261011T200000Z
DTEND:20261011T230000Z
CLASS:PUBLIC
CREATED:20260420T034133
DESCRIPTION:TEst Weekly Recurring
LAST-MODIFIED:20260420T034133
LOCATION:TEst
SUMMARY:TEst Weekly Recurring
URL;VALUE=URI:https://proxytest.churchos.ca/events/test-weekly-recurring/20
 26-10-11
ATTACH;FILENAME=cynthia-magana-mFPJXEQfb9M-unsplash.jpg;FMTTYPE=image/jpeg:
 https://d2b6r1pag5wxdm.cloudfront.net/2025/04/04/04/02/29/7ca19d47-a9ed-4e
 af-9a9b-3d4f4255c50b/cynthia-magana-mFPJXEQfb9M-unsplash.jpg
END:VEVENT
END:VCALENDAR
