BEGIN:VCALENDAR
VERSION:2.0
PRODID:icalendar-ruby
CALSCALE:GREGORIAN
METHOD:PUBLISH
BEGIN:VEVENT
DTSTAMP:20260420T204154Z
UID:5-8578587@proxytest.churchos.ca
DTSTART:20260920T200000Z
DTEND:20260920T233000Z
CLASS:PUBLIC
CREATED:20260420T034120
DESCRIPTION:
LAST-MODIFIED:20260420T034120
LOCATION:Church
SUMMARY:Worship Service
URL;VALUE=URI:https://proxytest.churchos.ca/events/worship-service--2/2026-
 09-20
ATTACH;FILENAME=helena-lopes-e3OUQGT9bWU-unsplash.jpg;FMTTYPE=image/jpeg:ht
 tps://d2b6r1pag5wxdm.cloudfront.net/2025/04/04/04/04/22/df2d11d9-a45f-4a6e
 -9d88-4bc910a64b05/helena-lopes-e3OUQGT9bWU-unsplash.jpg
ATTACH;FILENAME=headshot .png;FMTTYPE=image/png:https://d2b6r1pag5wxdm.clo
 udfront.net/2025/04/09/23/37/45/a921f19f-1217-41ff-9c01-c51d570df47b/heads
 hot%20%01.png
ATTACH;FILENAME=headshot .png;FMTTYPE=image/png:https://d2b6r1pag5wxdm.clo
 udfront.net/2025/04/09/23/37/44/96156f0f-70b3-4b26-aa40-f1644818d430/heads
 hot%20%01.png
END:VEVENT
END:VCALENDAR
